BEGIN:VCALENDAR
VERSION:2.0
PRODID:-//International Men&#039;s Day (UK) - ECPv6.15.5//NONSGML v1.0//EN
CALSCALE:GREGORIAN
METHOD:PUBLISH
X-ORIGINAL-URL:https://ukmensday.org.uk
X-WR-CALDESC:Events for International Men&#039;s Day (UK)
REFRESH-INTERVAL;VALUE=DURATION:PT1H
X-Robots-Tag:noindex
X-PUBLISHED-TTL:PT1H
BEGIN:VTIMEZONE
TZID:Europe/London
BEGIN:DAYLIGHT
TZOFFSETFROM:+0000
TZOFFSETTO:+0100
TZNAME:BST
DTSTART:20220327T010000
END:DAYLIGHT
BEGIN:STANDARD
TZOFFSETFROM:+0100
TZOFFSETTO:+0000
TZNAME:GMT
DTSTART:20221030T010000
END:STANDARD
END:VTIMEZONE
BEGIN:VEVENT
DTSTART;TZID=Europe/London:20221115T130000
DTEND;TZID=Europe/London:20221115T140000
DTSTAMP:20260422T141728
CREATED:20221102T212756Z
LAST-MODIFIED:20221102T213049Z
UID:4106-1668517200-1668520800@ukmensday.org.uk
SUMMARY:Empowering Men To Talk About Health
DESCRIPTION:Let’s talk about men’s health with We Are The City and key speakers.
URL:https://ukmensday.org.uk/event/wearecity22/
LOCATION:Online
END:VEVENT
BEGIN:VEVENT
DTSTART;TZID=Europe/London:20221115T130000
DTEND;TZID=Europe/London:20221115T170000
DTSTAMP:20260422T141728
CREATED:20221111T195423Z
LAST-MODIFIED:20221111T195423Z
UID:4190-1668517200-1668531600@ukmensday.org.uk
SUMMARY:Newcastle University Geography Society - Mental Health Event
DESCRIPTION:The aims are to promote Mental Health Awareness\, and initiate conversations between students\, making a positive difference to the wellbeing and lives of men and boys
URL:https://ukmensday.org.uk/event/newcastle-university22/
LOCATION:Newcastle University\, Newcastle-upon-Tyne\, NE1 7RU
END:VEVENT
END:VCALENDAR