BEGIN:VCALENDAR
VERSION:2.0
PRODID:-//International Men&#039;s Day (UK) - ECPv6.15.5//NONSGML v1.0//EN
CALSCALE:GREGORIAN
METHOD:PUBLISH
X-WR-CALNAME:International Men&#039;s Day (UK)
X-ORIGINAL-URL:https://ukmensday.org.uk
X-WR-CALDESC:Events for International Men&#039;s Day (UK)
REFRESH-INTERVAL;VALUE=DURATION:PT1H
X-Robots-Tag:noindex
X-PUBLISHED-TTL:PT1H
BEGIN:VTIMEZONE
TZID:Europe/London
BEGIN:DAYLIGHT
TZOFFSETFROM:+0000
TZOFFSETTO:+0100
TZNAME:BST
DTSTART:20220327T010000
END:DAYLIGHT
BEGIN:STANDARD
TZOFFSETFROM:+0100
TZOFFSETTO:+0000
TZNAME:GMT
DTSTART:20221030T010000
END:STANDARD
END:VTIMEZONE
BEGIN:VEVENT
DTSTART;TZID=Europe/London:20221118T090000
DTEND;TZID=Europe/London:20221118T130000
DTSTAMP:20260422T141300
CREATED:20221009T102038Z
LAST-MODIFIED:20221009T152731Z
UID:4045-1668762000-1668776400@ukmensday.org.uk
SUMMARY:University of Chester International Men's Day Conference
DESCRIPTION:The University of Chester has recently established a Men’s Network and this event is the network’s first project. The event is open to all.
URL:https://ukmensday.org.uk/event/universityofchester22/
LOCATION:Univerity of Chester\, Binks 013\, Parkgate Road\, Chester\, CH1 4BJ
END:VEVENT
BEGIN:VEVENT
DTSTART;TZID=Europe/London:20221118T090000
DTEND;TZID=Europe/London:20221118T130000
DTSTAMP:20260422T141300
CREATED:20221102T232304Z
LAST-MODIFIED:20221102T232406Z
UID:4134-1668762000-1668776400@ukmensday.org.uk
SUMMARY:Hillingdon Council  International Men;s Day Event
DESCRIPTION:Hillingdon Council are excited by our local programme and delighted that it is supported by key opinion formers and influencers.
URL:https://ukmensday.org.uk/event/hillingdon-council22/
LOCATION:Hillingdon Civic Centre\, Middlesex Suite\, 225 - 226 High Street\, Uxbridge\, UB8 1UW
END:VEVENT
BEGIN:VEVENT
DTSTART;TZID=Europe/London:20221118T100000
DTEND;TZID=Europe/London:20221118T170000
DTSTAMP:20260422T141300
CREATED:20220920T222338Z
LAST-MODIFIED:20221009T134709Z
UID:4025-1668765600-1668790800@ukmensday.org.uk
SUMMARY:Essex Police and Essex County Fire and Rescue Services
DESCRIPTION:Essex Police Men’s Forum are holding an IMD event on Friday 18th November 2022 in Essex. The event will be in partnership with our colleagues at Essex County Fire and Rescue Services and will include guest speakers from BlueLight MIND\, Lads Need Dads charitable organisation and also John Sutherland (former Police Officer of 25+ years and now acclaimed author). They also be fundraising for Lads Need Dads CIC. \n 
URL:https://ukmensday.org.uk/event/essex-police-22/
LOCATION:Employee Only
END:VEVENT
BEGIN:VEVENT
DTSTART;TZID=Europe/London:20221118T120000
DTEND;TZID=Europe/London:20221118T130000
DTSTAMP:20260422T141300
CREATED:20221111T193220Z
LAST-MODIFIED:20221111T193220Z
UID:4179-1668772800-1668776400@ukmensday.org.uk
SUMMARY:Education Matters - Modern Fatherhood & Workplace Support
DESCRIPTION:Promoting a positive conversation about men\, manhood & masculinity – Join Rachel & Tim in celebration of International Men’s Day.
URL:https://ukmensday.org.uk/event/educatingmatters/
LOCATION:Online
END:VEVENT
BEGIN:VEVENT
DTSTART;TZID=Europe/London:20221118T120000
DTEND;TZID=Europe/London:20221118T150000
DTSTAMP:20260422T141300
CREATED:20221102T220929Z
LAST-MODIFIED:20221102T222710Z
UID:4110-1668772800-1668783600@ukmensday.org.uk
SUMMARY:Courageous Conversations Conference
DESCRIPTION:Dorset Mind’s ‘Courageous Conversations’ Conference will shine the spotlight on the importance of talking about mental health.
URL:https://ukmensday.org.uk/event/dorsetmind22/
LOCATION:Lighthouse\, 21 Kingland Rd\, Poole\, Lighthouse\, Poole\, BH15 1UG
END:VEVENT
BEGIN:VEVENT
DTSTART;TZID=Europe/London:20221118T120000
DTEND;TZID=Europe/London:20221118T163000
DTSTAMP:20260422T141300
CREATED:20221111T182820Z
LAST-MODIFIED:20221111T182820Z
UID:4146-1668772800-1668789000@ukmensday.org.uk
SUMMARY:UWE Bristol Research Showcase
DESCRIPTION:To mark International Men’s Day 2022 we are proud to present a selection of current research from UWE staff and doctoral students that focus on men and masculinities.
URL:https://ukmensday.org.uk/event/uwe2022/
LOCATION:Online
END:VEVENT
BEGIN:VEVENT
DTSTART;TZID=Europe/London:20221118T140000
DTEND;TZID=Europe/London:20221118T160000
DTSTAMP:20260422T141300
CREATED:20221111T185802Z
LAST-MODIFIED:20221111T185836Z
UID:4164-1668780000-1668787200@ukmensday.org.uk
SUMMARY:Bruntwood SciTech - Lunch Club Men's Mental Health
DESCRIPTION:Join us for a 2 course lunch followed by a workshop focused on Male mental health and celebrating positive male role models in the workplace..
URL:https://ukmensday.org.uk/event/scitech222/
LOCATION:The Lost and Found\, 8 Bennetts Hill\, Birmingham
END:VEVENT
BEGIN:VEVENT
DTSTART;TZID=Europe/London:20221118T143000
DTEND;TZID=Europe/London:20221118T180000
DTSTAMP:20260422T141300
CREATED:20221009T141429Z
LAST-MODIFIED:20221009T151552Z
UID:4055-1668781800-1668794400@ukmensday.org.uk
SUMMARY:StartUp Croydon: International Men's Day Networking Event
DESCRIPTION:Networking event with a panel discussion to inspire the audience with conversations re overcoming adversity to go on to deliver success!
URL:https://ukmensday.org.uk/event/startup-croydon22/
LOCATION:Weatherill House Buines Centre\, Weatherill House Business Centre\, New South Quarter 23 Whitestone Way\, Croydon\, Croydon CR0 4WF
END:VEVENT
BEGIN:VEVENT
DTSTART;TZID=Europe/London:20221118T160000
DTEND;TZID=Europe/London:20221118T190000
DTSTAMP:20260422T141300
CREATED:20221009T145605Z
LAST-MODIFIED:20221009T150511Z
UID:4064-1668787200-1668798000@ukmensday.org.uk
SUMMARY:West Northants Male Role Model Awards 2022
DESCRIPTION:West Northants’ annual awards aim to raise awareness around men’s well-being and celebrate those who inspire and have a positive impact on the lives of others in the community or the workplace.
URL:https://ukmensday.org.uk/event/west-northants22/
LOCATION:Northampton  Museum and Art Gallery\, 4-6 Guildhall Road\, Northampton\, NN1 1DP
END:VEVENT
BEGIN:VEVENT
DTSTART;TZID=Europe/London:20221118T193000
DTEND;TZID=Europe/London:20221118T220000
DTSTAMP:20260422T141300
CREATED:20220920T224947Z
LAST-MODIFIED:20220920T224947Z
UID:4037-1668799800-1668808800@ukmensday.org.uk
SUMMARY:Scottish Men's Sheds Awards 2022
DESCRIPTION:The Scottish Men’s Sheds Association (SMSA) has teamed up with award-winning Scottish shortbread maker\, Dean’s of Huntly\, to sponsor the Scottish Men’s Shed of the Year Awards 2022. The awards event will take place on Friday 18th November 2022 with winner and two runners-up will then be announced to the public on Saturday 19th November 2022 to mark and celebrate International Men’s Day.
URL:https://ukmensday.org.uk/event/scottish-mens-sheds-awards-2022/
LOCATION:Private
END:VEVENT
END:VCALENDAR