BEGIN:VCALENDAR
VERSION:2.0
PRODID:-//International Men&#039;s Day (UK) - ECPv6.15.5//NONSGML v1.0//EN
CALSCALE:GREGORIAN
METHOD:PUBLISH
X-ORIGINAL-URL:https://ukmensday.org.uk
X-WR-CALDESC:Events for International Men&#039;s Day (UK)
REFRESH-INTERVAL;VALUE=DURATION:PT1H
X-Robots-Tag:noindex
X-PUBLISHED-TTL:PT1H
BEGIN:VTIMEZONE
TZID:Europe/London
BEGIN:DAYLIGHT
TZOFFSETFROM:+0000
TZOFFSETTO:+0100
TZNAME:BST
DTSTART:20220327T010000
END:DAYLIGHT
BEGIN:STANDARD
TZOFFSETFROM:+0100
TZOFFSETTO:+0000
TZNAME:GMT
DTSTART:20221030T010000
END:STANDARD
END:VTIMEZONE
BEGIN:VEVENT
DTSTART;TZID=Europe/London:20221119T083000
DTEND;TZID=Europe/London:20221119T160000
DTSTAMP:20260422T141639
CREATED:20221111T190239Z
LAST-MODIFIED:20221111T190239Z
UID:4168-1668846600-1668873600@ukmensday.org.uk
SUMMARY:Kinder Scout - Blackdog Outdoors & Ellis Brigham Men's Walking Event
DESCRIPTION:Led by qualified Mountain Leaders\, these well-being walks are perfect for meeting like-minded people in a safe environment.
URL:https://ukmensday.org.uk/event/kinder-scout-blackdog-outdoors-ellis-brigham-mens-walking-event/
LOCATION:Edale Car/Coach Park\, Hope Road\, Edale\, S33 7ZQ
END:VEVENT
BEGIN:VEVENT
DTSTART;TZID=Europe/London:20221119T100000
DTEND;TZID=Europe/London:20221119T150000
DTSTAMP:20260422T141639
CREATED:20221111T190810Z
LAST-MODIFIED:20221111T190919Z
UID:4172-1668852000-1668870000@ukmensday.org.uk
SUMMARY:International Men's Day Conference - Coleraine
DESCRIPTION:We are hosting the International Men’s Day Conference in Causeway Conference Centre\, Coleraine. The theme for the day is ‘Let’s Talk About…’
URL:https://ukmensday.org.uk/event/coleraine22/
LOCATION:Causeway Coast Conferencing\, 10 Hillman's Way\, Coleraine\, BT52 2ED
END:VEVENT
BEGIN:VEVENT
DTSTART;TZID=Europe/London:20221119T110000
DTEND;TZID=Europe/London:20221119T130000
DTSTAMP:20260422T141639
CREATED:20221009T144614Z
LAST-MODIFIED:20221009T151732Z
UID:4060-1668855600-1668862800@ukmensday.org.uk
SUMMARY:World Record Attempt: BALLSIEST World Record ever
DESCRIPTION:Help us break the BALLSIEST World Record ever! 🙌🏅 🍒 Join us on International Men’s Day and help us break the Guinness World Record for the ‘Largest Simultaneous Self Check for Testicular Cancer!’
URL:https://ukmensday.org.uk/event/world-record-attempt22/
LOCATION:University of Essex\, Sub Zero Nightclub\, Wivenhoe Park\, Colchester\, Essex\, CO4 3SQ
END:VEVENT
BEGIN:VEVENT
DTSTART;TZID=Europe/London:20221119T110000
DTEND;TZID=Europe/London:20221119T150000
DTSTAMP:20260422T141639
CREATED:20221102T231526Z
LAST-MODIFIED:20221102T231526Z
UID:4130-1668855600-1668870000@ukmensday.org.uk
SUMMARY:Celebrating Men and Boys Event in Brixton
DESCRIPTION:In celebration of International Men’s Day\, Brixton’s Cassandra Centre are hosting an all day event to highlight and support issues around men and boys well-being
URL:https://ukmensday.org.uk/event/celebrating-men-and-boys-event-in-brixton/
LOCATION:Brixton Library\, Brixton Oval\, London\, SW2 1JQ
END:VEVENT
BEGIN:VEVENT
DTSTART;TZID=Europe/London:20221119T120000
DTEND;TZID=Europe/London:20221119T130000
DTSTAMP:20260422T141639
CREATED:20220821T125010Z
LAST-MODIFIED:20220821T125010Z
UID:3994-1668859200-1668862800@ukmensday.org.uk
SUMMARY:Box for Cancer (Notorious Big Energy)
DESCRIPTION:Campaign fundraiser organised by Notorious Big Energy for pancreatic cancer where you take part in a session of movement for mix abilities\, chair adaptation and medium intensity increments to work towards completing a routine.
URL:https://ukmensday.org.uk/event/notorious-big-energy/
LOCATION:The Bridge\, 73-81 Southwark Bridge Rd\, London\, SE1 0NQ
END:VEVENT
BEGIN:VEVENT
DTSTART;TZID=Europe/London:20221119T130000
DTEND;TZID=Europe/London:20221119T140000
DTSTAMP:20260422T141639
CREATED:20221111T200728Z
LAST-MODIFIED:20221111T200728Z
UID:4196-1668862800-1668866400@ukmensday.org.uk
SUMMARY:Australian Authors Event (AUS Time)
DESCRIPTION:Holden Sheppard will host a panel conversation with acclaimed authors Yuot A. Alaak\, David Allan-Petale and Barry Nicholls – all acclaimed West Australian authors. This event is at 1:00 pm – 2:00 pm AWST.
URL:https://ukmensday.org.uk/event/australain-authors22/
LOCATION:Online
END:VEVENT
BEGIN:VEVENT
DTSTART;TZID=Europe/London:20221119T130000
DTEND;TZID=Europe/London:20221119T150000
DTSTAMP:20260422T141639
CREATED:20221111T201840Z
LAST-MODIFIED:20221111T202000Z
UID:4199-1668862800-1668870000@ukmensday.org.uk
SUMMARY:Edinburgh Mankind project community event
DESCRIPTION:Men from the Edinburgh Mankind project community and the Linlithgow Community development trust would like to invite men to an International Men’s Day group at the Linlithgow Hub (Old Library). \nWhat to expect : the purpose of the event is to create community by creating a safe\, supportive\, structured space to: \n\nShare experiences and felt benefits of being part of a men’s group\nShare the experience of doing deeper self-development\, exploration\, and inquiry (both openly & confidentially)\nShare the gift of emotionality\, vulnerability and all the benefits that come from attending a men’s group\n\nSee douglas_guest@yahoo.co.uk or 07713032576 to book a place
URL:https://ukmensday.org.uk/event/edinburgh-mankind22/
LOCATION:Linlithgow Hub (Old Library)\, 6-7 The Vennel\, Edinburgh\, EH49 7EX
END:VEVENT
BEGIN:VEVENT
DTSTART;TZID=Europe/London:20221119T133000
DTEND;TZID=Europe/London:20221119T170000
DTSTAMP:20260422T141639
CREATED:20221111T194911Z
LAST-MODIFIED:20221111T194911Z
UID:4186-1668864600-1668877200@ukmensday.org.uk
SUMMARY:Male Suicide Prevention Event and Film - Northampton
DESCRIPTION:The event also features a screening of Dear Evan Hansen which looks at the ripple effect of suicide when a student takes his life and also has a real message of hope that you are not alone.
URL:https://ukmensday.org.uk/event/male-suicide-prevention22/
LOCATION:Northampton Filmhouse\, Derngate\,\, Northampton\, NN1 1TU
END:VEVENT
BEGIN:VEVENT
DTSTART;TZID=Europe/London:20221119T150000
DTEND;TZID=Europe/London:20221119T210000
DTSTAMP:20260422T141639
CREATED:20221111T183357Z
LAST-MODIFIED:20221111T183512Z
UID:4149-1668870000-1668891600@ukmensday.org.uk
SUMMARY:Fire Ceremony
DESCRIPTION:Join us this International Men’s Day in a space for brothers to connect\, open their hearts and let go of all that no longer serves
URL:https://ukmensday.org.uk/event/fire-ceremony22/
LOCATION:Thetford Forest\, The King's Forest IP286UY\, North Stow\, IP28 6UY
END:VEVENT
BEGIN:VEVENT
DTSTART;TZID=Europe/London:20221119T173000
DTEND;TZID=Europe/London:20221119T200000
DTSTAMP:20260422T141639
CREATED:20221009T153121Z
LAST-MODIFIED:20221009T153121Z
UID:4074-1668879000-1668888000@ukmensday.org.uk
SUMMARY:Belfast Men’s Health Group: Top Gun Maverick viewing
DESCRIPTION:To celebrate international men’s day\, the Belfast Men’s Health Group invite you to the Strand cinema on the Holywood Road Belfast to view TOP GUN – MAVERICK
URL:https://ukmensday.org.uk/event/belfast-mens-health-group-top-gun-maverick-viewing/
LOCATION:Strand Cinema\, 152-154 Holywood Rd\, Belfast\, BT4 1NY
END:VEVENT
BEGIN:VEVENT
DTSTART;TZID=Europe/London:20221119T180000
DTEND;TZID=Europe/London:20221119T200000
DTSTAMP:20260422T141639
CREATED:20220821T102556Z
LAST-MODIFIED:20220821T122527Z
UID:3964-1668880800-1668888000@ukmensday.org.uk
SUMMARY:One Life Two Cultures (Scottish Civic Trust)
DESCRIPTION:Join African and Caribbean Elders in Scotland to hear stories from their new oral history project\, One Life Two Cultures.
URL:https://ukmensday.org.uk/event/scottish-civic-trust2022/
LOCATION:Online
END:VEVENT
BEGIN:VEVENT
DTSTART;TZID=Europe/London:20221119T183000
DTEND;TZID=Europe/London:20221119T203000
DTSTAMP:20260422T141639
CREATED:20221102T225632Z
LAST-MODIFIED:20221102T225632Z
UID:4122-1668882600-1668889800@ukmensday.org.uk
SUMMARY:Stronger Together Conference
DESCRIPTION:The aim of the conference is to raise awareness about breaking the stereotype to being told to man up\, men’s mental health and to promote equality.
URL:https://ukmensday.org.uk/event/stronger-together-conference/
LOCATION:The Yellow\, 1 Humphry Repton Lane\, Wembley Park\, HA9 0GL
END:VEVENT
BEGIN:VEVENT
DTSTART;TZID=Europe/London:20221119T190000
DTEND;TZID=Europe/London:20221119T220000
DTSTAMP:20260422T141639
CREATED:20221009T151321Z
LAST-MODIFIED:20221102T201148Z
UID:4069-1668884400-1668895200@ukmensday.org.uk
SUMMARY:International Men’s Day Appreciation Award Ceremony: Portsmouth
DESCRIPTION:Dadzclub in Porstmouth  are holding these awards for inspirational men in their community! Will be announced at Portsmouth Guildhall.
URL:https://ukmensday.org.uk/event/portsmouth22/
LOCATION:Portsmouth Guidhall\, Guildhall Square\,\, Portsmouth\, PO1 2AB
END:VEVENT
BEGIN:VEVENT
DTSTART;TZID=Europe/London:20221119T193000
DTEND;TZID=Europe/London:20221119T220000
DTSTAMP:20260422T141639
CREATED:20221102T223420Z
LAST-MODIFIED:20221102T223827Z
UID:4114-1668886200-1668895200@ukmensday.org.uk
SUMMARY:1 man in 100\,000 comedy night
DESCRIPTION:A comic tragedy of hope over death tells Richard Stamp’s journey after the shock diagnosis of Penis Cancer.
URL:https://ukmensday.org.uk/event/magiclantern22/
LOCATION:Magic Lantern Cinema\, 61 Corbett Square\, Tywyn\, LL36 9DF
END:VEVENT
BEGIN:VEVENT
DTSTART;TZID=Europe/London:20221119T193000
DTEND;TZID=Europe/London:20221119T220000
DTSTAMP:20260422T141639
CREATED:20221111T184543Z
LAST-MODIFIED:20221111T184543Z
UID:4156-1668886200-1668895200@ukmensday.org.uk
SUMMARY:Four Plays in Liverpool on Mental Health
DESCRIPTION:What He Said showcases four plays from North West based writers\, exploring mental health from a male perspective.
URL:https://ukmensday.org.uk/event/four-plays-in-liverpool-on-mental-health/
LOCATION:The Casa Bar\, 29 Hope Street\, Liverpool\, L1 9BP
END:VEVENT
BEGIN:VEVENT
DTSTART;TZID=Europe/London:20221119T210000
DTEND;TZID=Europe/London:20221119T230000
DTSTAMP:20260422T141639
CREATED:20221009T153622Z
LAST-MODIFIED:20221009T153921Z
UID:4078-1668891600-1668898800@ukmensday.org.uk
SUMMARY:Wolfson College Cambridge: International Men's Day Quiz
DESCRIPTION:Join us in rounds of trivia celebrating men for this International Men’s Day. Prizes are to be won\, so do brush up on your history\, general knowledge and health statistics.
URL:https://ukmensday.org.uk/event/wolfson-college22/
LOCATION:Clubroom\, Barton Rd\,\, Cambridge\, CB3 9BB
END:VEVENT
END:VCALENDAR