BEGIN:VCALENDAR
VERSION:2.0
PRODID:-//International Men&#039;s Day (UK) - ECPv6.15.5//NONSGML v1.0//EN
CALSCALE:GREGORIAN
METHOD:PUBLISH
X-WR-CALNAME:International Men&#039;s Day (UK)
X-ORIGINAL-URL:https://ukmensday.org.uk
X-WR-CALDESC:Events for International Men&#039;s Day (UK)
REFRESH-INTERVAL;VALUE=DURATION:PT1H
X-Robots-Tag:noindex
X-PUBLISHED-TTL:PT1H
BEGIN:VTIMEZONE
TZID:Europe/London
BEGIN:DAYLIGHT
TZOFFSETFROM:+0000
TZOFFSETTO:+0100
TZNAME:BST
DTSTART:20220327T010000
END:DAYLIGHT
BEGIN:STANDARD
TZOFFSETFROM:+0100
TZOFFSETTO:+0000
TZNAME:GMT
DTSTART:20221030T010000
END:STANDARD
END:VTIMEZONE
BEGIN:VEVENT
DTSTART;TZID=Europe/London:20221121T080000
DTEND;TZID=Europe/London:20221121T210000
DTSTAMP:20260422T141409
CREATED:20220821T120956Z
LAST-MODIFIED:20220821T122746Z
UID:3985-1669017600-1669064400@ukmensday.org.uk
SUMMARY:School Assembly (The Green School for Boys)
DESCRIPTION:The Green School for Boys in Isleworth are holding school assemblies for the week 21-25 November for pupils to be role models.
URL:https://ukmensday.org.uk/event/the-green-school2022/
LOCATION:The Green School for Boys\, Busch Corner\, London Road\,\, Isleworth\, Middlesex\, TW7 5BB
END:VEVENT
END:VCALENDAR