BEGIN:VCALENDAR
VERSION:2.0
PRODID:-//International Men&#039;s Day (UK) - ECPv6.15.5//NONSGML v1.0//EN
CALSCALE:GREGORIAN
METHOD:PUBLISH
X-WR-CALNAME:International Men&#039;s Day (UK)
X-ORIGINAL-URL:https://ukmensday.org.uk
X-WR-CALDESC:Events for International Men&#039;s Day (UK)
REFRESH-INTERVAL;VALUE=DURATION:PT1H
X-Robots-Tag:noindex
X-PUBLISHED-TTL:PT1H
BEGIN:VTIMEZONE
TZID:Europe/London
BEGIN:DAYLIGHT
TZOFFSETFROM:+0000
TZOFFSETTO:+0100
TZNAME:BST
DTSTART:20220327T010000
END:DAYLIGHT
BEGIN:STANDARD
TZOFFSETFROM:+0100
TZOFFSETTO:+0000
TZNAME:GMT
DTSTART:20221030T010000
END:STANDARD
END:VTIMEZONE
BEGIN:VEVENT
DTSTART;TZID=Europe/London:20221122T133000
DTEND;TZID=Europe/London:20221122T180000
DTSTAMP:20260422T141302
CREATED:20221009T100922Z
LAST-MODIFIED:20221009T101128Z
UID:4043-1669123800-1669140000@ukmensday.org.uk
SUMMARY:Masculinity in the Workplace - 2022
DESCRIPTION:Masculinity in the Workplace 2022\, is Token Man’s annual event to mark International Men’s Day. This is a hybrid event. Employees of their partner companies can attend the event in real life. Everyone else is invited to attend this event virtually.
URL:https://ukmensday.org.uk/event/tokenman22/
LOCATION:Online
END:VEVENT
END:VCALENDAR