BEGIN:VCALENDAR
VERSION:2.0
PRODID:-//International Men&#039;s Day (UK) - ECPv6.15.5//NONSGML v1.0//EN
CALSCALE:GREGORIAN
METHOD:PUBLISH
X-ORIGINAL-URL:https://ukmensday.org.uk
X-WR-CALDESC:Events for International Men&#039;s Day (UK)
REFRESH-INTERVAL;VALUE=DURATION:PT1H
X-Robots-Tag:noindex
X-PUBLISHED-TTL:PT1H
BEGIN:VTIMEZONE
TZID:Europe/London
BEGIN:DAYLIGHT
TZOFFSETFROM:+0000
TZOFFSETTO:+0100
TZNAME:BST
DTSTART:20240331T010000
END:DAYLIGHT
BEGIN:STANDARD
TZOFFSETFROM:+0100
TZOFFSETTO:+0000
TZNAME:GMT
DTSTART:20241027T010000
END:STANDARD
END:VTIMEZONE
BEGIN:VEVENT
DTSTART;TZID=Europe/London:20241117T100000
DTEND;TZID=Europe/London:20241117T113000
DTSTAMP:20260422T094345
CREATED:20241006T120954Z
LAST-MODIFIED:20241006T120954Z
UID:4768-1731837600-1731843000@ukmensday.org.uk
SUMMARY:Harrow Man Down Walk
DESCRIPTION:Man Down Walk for International Men’s Day and Movember \nJoin the Man Down Project for a men’s nature walk to mark International Men’s Day and Movember\, to highlight men’s health issues such as prostate cancer and mental health. \n\nDate: Sunday\, 17th November 2024 \nTime: 10:00 AM – 11:30 AM \nMeeting Point: Harrow View Point \nLocation: 10 Old Redding\, Harrow HA3 6SL \nDescription: Join the Man Down Project for a men’s nature walk to mark International Men’s Day and Movember\, to highlight men’s health issues such as prostate cancer and mental health. \nThe walk will include educational segments and opportunities for participants to share their experiences. We encourage you to bring along your sons\, cousins\, uncles\, fathers or even friends. Refreshments will be provided during the walk. \nRequirements: Walking Shoes/Boots\, Bottle of water and an open mind.
URL:https://ukmensday.org.uk/event/harrow-man-down-walk/
LOCATION:Harrow View Point\, 10 Old Redding\,\, Harrow\, HA3 6SL
END:VEVENT
BEGIN:VEVENT
DTSTART;TZID=Europe/London:20241117T180000
DTEND;TZID=Europe/London:20241117T223000
DTSTAMP:20260422T094345
CREATED:20241102T111636Z
LAST-MODIFIED:20241102T111636Z
UID:4802-1731866400-1731882600@ukmensday.org.uk
SUMMARY:International Men's Day Gala (Brixton)
DESCRIPTION:International Men’s Day (London) will be celebrating the positive value men bring to the world\, their families and communities. This event will highlight positive role models and raise awareness of men’s well-being. The IMD theme for 2024 is “Positive Male Role Models”.
URL:https://ukmensday.org.uk/event/international-mens-day-gala-brixton/
LOCATION:BRIX LDN\, 16 Great Guildford Street\, London\, SE1 0HS
END:VEVENT
END:VCALENDAR