BEGIN:VCALENDAR
VERSION:2.0
PRODID:-//International Men&#039;s Day (UK) - ECPv6.15.5//NONSGML v1.0//EN
CALSCALE:GREGORIAN
METHOD:PUBLISH
X-ORIGINAL-URL:https://ukmensday.org.uk
X-WR-CALDESC:Events for International Men&#039;s Day (UK)
REFRESH-INTERVAL;VALUE=DURATION:PT1H
X-Robots-Tag:noindex
X-PUBLISHED-TTL:PT1H
BEGIN:VTIMEZONE
TZID:Europe/London
BEGIN:DAYLIGHT
TZOFFSETFROM:+0000
TZOFFSETTO:+0100
TZNAME:BST
DTSTART:20240331T010000
END:DAYLIGHT
BEGIN:STANDARD
TZOFFSETFROM:+0100
TZOFFSETTO:+0000
TZNAME:GMT
DTSTART:20241027T010000
END:STANDARD
END:VTIMEZONE
BEGIN:VEVENT
DTSTART;TZID=Europe/London:20241121T093000
DTEND;TZID=Europe/London:20241121T163000
DTSTAMP:20260422T095339
CREATED:20241117T161614Z
LAST-MODIFIED:20241117T161614Z
UID:4880-1732181400-1732206600@ukmensday.org.uk
SUMMARY:Webinar - Male hormones and men's mental health
DESCRIPTION:This live webinar will focus on exploring the intricate connection between men’s hormones and men’s mental health. This timely event will delve into the often overlooked but critical aspects of how hormonal fluctuations and imbalances can significantly impact mental well-being in men. Our facilitator for the day is the renowned Ryan Parke. Ryan is The Men’s Coach – a TEDx Speaker specialising in how hormones\, lifestyle and goal setting impact male mental health. \nHaving created an evidence-based framework drawing upon over 1\,000 sources and his extensive coaching experience\, Ryan works with industry leaders\, charities\, and NHS Trusts who want to provide effective support to men. His 90-day coaching programme helps men to improve their mental health by using science-based strategies to achieve their life goals. Ryan will be joined by a fantastic line-up of speakers including expert endocrinologists\, psychiatrists\, and mental health professionals who will gather to share their insights\, backed by the latest research\, and engage in in-depth discussions. Attendees will gain a comprehensive understanding of the physiological and psychological interplay of hormones like testosterone\, cortisol\, and thyroid hormones and their role in mood regulation\, anxiety\, depression\, and overall mental health. \nOne of the primary objectives of the webinar is to shed light on the signs and symptoms of hormonal imbalances that are frequently misdiagnosed or dismissed in clinical settings. Presentations will cover how a variety of conditions and disorders can mimic or exacerbate mental health issues\, leading to mismanagement or inadequate treatment of affected individuals. Through case studies and lived experience examples\, the webinar will illustrate the importance of accurate diagnosis and the implementation of targeted treatment strategies that address both hormonal and psychological components for effective patient outcomes. \nThe interactive format of the webinar will facilitate a dynamic exchange of ideas and experiences among participants. Live Q&A sessions will allow attendees to pose questions directly to the experts\, fostering a collaborative learning environment. This event is not only an educational opportunity but also a call to action for healthcare providers to integrate a more holistic approach in their practices. By emphasizing the significance of hormonal health in the context of mental health\, the webinar aims to inspire ongoing research\, better diagnostic tools\, and more personalized treatment plans that can improve the quality of life for men experiencing these complex health issues.
URL:https://ukmensday.org.uk/event/male-hormones24/
LOCATION:Online
END:VEVENT
BEGIN:VEVENT
DTSTART;TZID=Europe/London:20241121T100000
DTEND;TZID=Europe/London:20241121T153000
DTSTAMP:20260422T095339
CREATED:20240929T123212Z
LAST-MODIFIED:20240929T123212Z
UID:4737-1732183200-1732203000@ukmensday.org.uk
SUMMARY:Teen Boy Empowerment Conference
DESCRIPTION:The energetic and interactive day will be hosted by a leading motivation speaker \nThis exciting event builds on the success of the last 8 years and will be an ideal opportunity for your 13 -15 years male students to: \n* Experience a Corporate setting \n* Be inspired by young men doing great things that they can relate to \n* Bring the PSHE curriculum to life through inspiring workshops and real-life experiences of our speakers. \n* Increase aspirations and understand the many opportunities potentially available to them in non-typical industries and corporate organizations. \n* Celebrate International Mens Day amongst their peers. \n* Meet boys from different walks of life. \n* Be challenged to make a difference in their community and realise their personal power. \n* Have a positive day reflecting on what’s good about being them. \nAnd here’s a link to the video of one of our conferences https://www.youtube.com/watch?v=mRv3suoxD0Y&t=14s \nCheck out the confirmed speakers below and book your place quickly to avoid disappointment \n\nCameron Parker is an international speaker and coach\nOliver Lam-Watson\, EUROPEAN CHAMPION & 4X PARALYMPIC MEDALLIST\nWilfred Webster\nRyan J. Matthews A.K.A. Ragz-CV\nIAMTHELIVING\, the stage name of Vancouver-based Juno nominated artist Rian Peters
URL:https://ukmensday.org.uk/event/teen-boy24/
LOCATION:One Silk Street\, One Silk Street\, London\, EC2Y 8HQ
END:VEVENT
BEGIN:VEVENT
DTSTART;TZID=Europe/London:20241121T103000
DTEND;TZID=Europe/London:20241121T170000
DTSTAMP:20260422T095339
CREATED:20241117T141519Z
LAST-MODIFIED:20241117T141519Z
UID:4861-1732185000-1732208400@ukmensday.org.uk
SUMMARY:House of Commons
DESCRIPTION:Parliamentary Debate – Thursday 21 November (House of Commons): Type TBC \nDebate led by Sam Rushworth MP (Bishop Auckland) \nhttps://www.parliament.uk/business/news/2024/november/coming-up-in-the-commons-18-22-november/ \n  \nou
URL:https://ukmensday.org.uk/event/housecommons24/
LOCATION:House of Commons\, Westminster\, London\, SW1A 0AA
END:VEVENT
BEGIN:VEVENT
DTSTART;TZID=Europe/London:20241121T130000
DTEND;TZID=Europe/London:20241121T140000
DTSTAMP:20260422T095339
CREATED:20241102T112304Z
LAST-MODIFIED:20241102T112304Z
UID:4806-1732194000-1732197600@ukmensday.org.uk
SUMMARY:Heart and Soul on International Men's Day
DESCRIPTION:Join us on International Men’s Day\, for a free lunch\, good company\, and an interesting\, inspiring speaker. \nYou will have noticed there’s growing awareness of how challenging it can be for the majority of men to access health help when they need it. This is true of physical health and mental health. \nSo\, we thought\, let’s take a moment to celebrate being men in the modern world\, and let’s hear from those men who are there for other men\, just when they need it\, and glean from them whatever we can that might benefit us\, too. \nOR. . . simply take the time to take your foot off the gas for 40 minutes! \nI look forward to meeting you\, and thank you for your support.
URL:https://ukmensday.org.uk/event/heartandsoul24/
LOCATION:Fulbourn Hospital Resource Centre\, Fulbourn\, CB21 5EF
END:VEVENT
END:VCALENDAR