BEGIN:VCALENDAR
VERSION:2.0
PRODID:-//International Men&#039;s Day (UK) - ECPv6.15.5//NONSGML v1.0//EN
CALSCALE:GREGORIAN
METHOD:PUBLISH
X-WR-CALNAME:International Men&#039;s Day (UK)
X-ORIGINAL-URL:https://ukmensday.org.uk
X-WR-CALDESC:Events for International Men&#039;s Day (UK)
REFRESH-INTERVAL;VALUE=DURATION:PT1H
X-Robots-Tag:noindex
X-PUBLISHED-TTL:PT1H

BEGIN:VEVENT
DTSTART;TZID=Europe/London:20141101T080000
DTEND;TZID=Europe/London:20141130T170000
DTSTAMP:20260423T223541
CREATED:20190728T122034Z
LAST-MODIFIED:20190728T122054Z
UID:2847-1414828800-1417366800@ukmensday.org.uk
SUMMARY:2014 International Men's Day Events
DESCRIPTION:The Men @ ECCY MECCY Showcase Event \n18 November 2014 @ 1:00 pm – 3:00 pm \nMain Hall\,  \nEccleshill Mechanics Institute\, Stone Hall Road\, \n  \nYou are warmly invited to our celebration Showcase Event 2014! The event is open to the public and is a great opportunity to come and see the many different aspects of and purpose behind the much needed Men @ Eccy Meccy work! Men @ Eccy Meccy Showcase Event Flyer When? Tuesday 18th November at 1pm-3pm Where? Main Hall\, Eccleshill Mechanics Institute\, Stone Hall Road\, Eccleshill\, Bradford\, BD2 2EW Food? Yes! There is a full buffet served at 1pm with a… \nFatherhood Institute to Launch a #bringingfathersin Campaign \n19 November 2014 \nFatherhood Institute\,  \nAdministrative Office SN8 3UU  \n  \nThe charity the campaign Fatherhood Institute is launching a #bringingfathersin campaign to celebrate dads’ role in their children’s learning and help frontline professionals to involved more fathers in their children’s lives.   Web: http://www.fatherhoodinstitute.org/ Contact: Jeremy Davies J.Davies@fatherhoodinstitute.org \nRegistered Therapists to Raise Awareness of Men’s Mental Health on International Men’s Day \n19 November 2014 \nRSCPP\,  \n1 Matthew’s Yard\nCroydon\, CR0 1FF United Kingdom  \nRSCPP\, a network of over 2\,500 registered therapists\, are using International Men’s Day as an opportunity to raise awareness of men’s mental health issues  and some of the help available to men.   Web: http://www.rscpp.co.uk/content/features/international-mens-day-mental-health.html Contact: info@rscpp.co.uk \n  \ninsideMAN launches #100Voices4men \n19 November 2014 \nhttp://www.inside-man.co.uk/tag/100Voices4men/ \nOnline magazine insideMAN (www.inside-man.co.uk) is launching a new series of articles called #100Voices4Men featuring 100 articles written by\, for and about men and boys. Authors include Guardian columnist Ally Fogg; former Equal Opportunities Commissioner\, Duncan Fisher and writer and campaigner Glen Poole who helps to co-ordinate International Men’s Day in the UK.   Web: http://www.inside-man.co.uk/tag/100Voices4men/   Contact insideMANeditor@gmail.com or call 07981 334222 \nManKind Initiative to Launch Police Figures on Domestic Abuse on International Men’s Day \n19 November 2014 \nManKind Initiative\,  \nFlook House\nTaunton\, TA1 1BT  \n  \nDomestic abuse charity\, the ManKind Initiative will be announcing new police figures on the number of male victims of domestic abuse this week. These have been gained through Freedom of Information requests. \nMen in Early Years – the Election Campaign Starts Here on International Men’s Year \n19 November 2014 \nMen in Early Years \nMen in Early Years run by the Laura Henry Consultancy: http://www.laurahenryconsultancy.com/2014/11/15/men-in-early-years-the-election-campaign-starts-here/ \nIsle of Man College Attempts to Break World Yoiga Record on International Men’s Day \n19 November 2014 @ 12:00 am – 1:00 pm \nNational Sports Centre\,  \nGrove Road\nDouglas\, Isle of Man\, IM2 1RB  \n  \nIsle of Man College is looking to set the world record for the largest all-male yoga class. The idea is the brainchild of Kate Bergquist\, health and well-being co-ordinator\, who was keen to mark International Men’s Day. The world record attempt takes place at the National Sports Centre\, in Douglas\, tomorrow (Wednesday) from midday. Kate told iomtoday: ‘Normally the objectives for International Men’s Day include a focus on men’s and boys’ health\, improving gender relations\, promoting gender equality and highlighting… \nMade for Men Spa Day – All Week – Celebrating International Men’s Day \n19 November 2014 @ 8:00 am – 23 November 2014 @ 5:00 pm \nEden Hall Day Spa\,  \nNottinghamshire\, NG23 5PG United Kingdom  \n+ Google Map \nInternational Men’s Day (IMD)\, which takes place on 19 November\, focuses on men’s health and wellbeing and we’d like to help along the way and bring those Eden Hall spa secrets to all you males. http://www.edenspa.co.uk/spa-shop/special-offers/1109/made-for-men-spa-day-15th-to-23rd-november-2014 Our customised Men’s Day Package is available to book from 15-23 November. You’ll get a proper man-sized day\, but at only £105\, a price that is distinctly half-pint in stature. Full-day use of Eden’s spa and gym facilities – wallow in the hot tubs\,… \nCALM and Men’s Health Forum launch Masculinity Audit on International Men’s day \n19 November 2014 @ 8:30 am – 10:00 am \nHouse of Commons\,  \nWestminster\, SW1A 0AA United Kingdom  \n  \nLord Boateng will launch the 2014 Masculinity Audit commissioned the Campaign Against Living Miserably – CALM – a charity dedicated to preventing male suicide. Lord Boateng will be joined at a Breakfast Seminar at the House of Commons by speakers from CALM and the charity the Men’s Health Forum. It is invite only \nInternational Men’s Day in Belfast \n19 November 2014 @ 9:30 am – 3:30 pm \nBelfast Castle\,  \nAntrim Rd\nBelfast\, BT15 5GR United Kingdom  \nBelfast City Council would like to invite you to Belfast’s first International Men’s Day seminar at Belfast Castle on Wednesday 19th November from 9.30am to 3.30pm. International Mens Day Invitation Belfast The theme for this year’s event is ‘Working Together for Men and Boys’ and it is designed to encourage greater cooperation in addressing issues that affect men and boys all over the world.  This is a free event and lunch will be provided.   The event will reflect the… \n  \nYork St John’s Feminist Society to Celebrate Men’s Achievements on International Men’s Day \n19 November 2014 @ 10:00 am – 6:00 pm \nYork St John’s Student Union\,  \nYork\, YO31 7EX.  \n  \nGreat news\, York St John’s Feminist Society is to hold an event on International Men’s Day to celebrate the achievements of men from around the world. There will be plenty of information available on the day\, guest speaker and an open space for discussion. It is for students only  and they have also agreed to be a supporter. \nFree2Network Stressbuster Event in Llanfair on International Men’s Day \n19 November 2014 @ 10:00 am – 11:30 am \nCarreg Bran Hotel\,  \nChurch Ln\, Llanfairpwll\nAnglesey\, LL61 5YH  \n  \nFree2Network member Graham Williams\, Well Mind Therapy will deliver a short Stress Buster workshop with useful tools to take away and use at your desk or in your car. https://www.eventbrite.co.uk/e/free2network-in-llanfair-pg-november-19th-2014-tickets-10120521753 \nNewcastle University’s Institute of Health and Society Host International Men’s Day Event \n19 November 2014 @ 11:00 am – 11:45 pm \nNewcastle University\,  \nInstitute of Health & Society\nNewcastle\, NE2 4AX United Kingdom  \n  \nThe Institute of Heath and Society at Newcastle University is hosting an International Men’s Day coffee morning. http://www.ncl.ac.uk/ihs/about/athenaswan/news.htm Institute Staff Only HS will be hosting an International Men’s Day coffee morning on Wednesday 19th November from 11am – 11:45am\, IHS Level 3 coffee area. There will be informal presentations and refreshments. Everyone is welcome! \nEdgehill University Hold Interactive Stall on International Men’s Day \n19 November 2014 @ 11:00 am – 2:00 pm \nEdgehill Universiy Student’s Union Hub\,  \nSt Helen’s Road\nOrmskirk\, Lancashire\, L39 4QP United Kingdom  \n  \n‘I get by with a little help from my friends’ – John Lennon Join some of our Counsellors and Student Ambassadors at our interactive stall in the HUB – 11 am to 2 pm on Wednesday November 19th.  Let’s talk about Men’s health and… Get information and resources Give us your tips on looking after yourself and your mates Support ‘Time to Change’ and ‘Movember’ campaigns This event is offered by the Counselling and Supervisory Services\, which is part of \nConscious Ageing Trust Hosts Google Hangout on International Men’s Day \n19 November 2014 @ 12:00 pm – 1:00 pm \nConscious Ageing Trust \nThe charity the Conscious Ageing Trust is hosting a google hangout about male suicide featuring Dr Max MacKay-James of the Men Beyond 50 project and Josh Rivedal\, author of the book The Gospel According to Josh\, which touches on the issue of male suicide.   Web: \nCoolTan Arts Celebrate International Men’s Day for Third Year Running \n19 November 2014 @ 12:00 pm – 6:00 pm \nCoolTan Arts\,  \nThird Floor\, 224-236 Walworth Road\nSouthwark\, London\, SE17 1JE United Kingdom  \n  \nInternational Men’s Day 2014 For the third year CoolTan will be celebrating International Men’s Day with a packed programme of events. Wednesday 19th November 12pm – 6.00pm at CoolTan Arts Join us for a fun\, friendly afternoon to meet new people and learn new things. All welcome! SCHEDULE Talk on Men’s Appearance  12:15 – 1pm Self Advocacy Session: How the mental health system impacts on masculinity 1.15 – 2.15pm Exercise at Home Workshop 2:30 – 3:15pm Men’s Cooking Group run… \nJoin Conscious Ageing Trust on their Google Hangout on International Men’s Day \n19 November 2014 @ 12:00 pm – 1:00 pm \nGoogle Hangout\,  \nhttps://plus.google.com/events/ct03f8gu836qihvc3jnqi3fl070 United Kingdom  \n  \nJosh and Dr. Max are working together around International Men’s Day on 19 November\, to break the taboo on men talking about depression\, mental health\, and suicidal thoughts.   Josh & Dr. Max are both available to answer questions on Men’s Mental Health and Suicide Prevention through November\, to mark International Men’s Day and Movember. Full details: CAT Press Release THE EVENT Google Hangout URL: https://plus.google.com/events/ct03f8gu836qihvc3jnqi3fl070 Date:                            19th November\, 2014 Time:                           12:00pm GMT   Links Men Beyond 50            … \n  \nMatt Webb Dedicates his Radio Cambridge Afternoon Radio Show to Discuss International Men’s Da \n19 November 2014 @ 1:00 pm – 4:00 pm \nCambridge Radio 105\,  \nCambridge\,  \n  \nRadio presenter Matt Webb\, will be dedicating his afternoon radio show on Cambridge 105 to discussing International Men’s Day.   Web: http://cambridge105.fm/shows/matt-webb/ \nBlackpool’s UR Potential To Raise Awareness of Men’s Health on International Men’s Day UK \n19 November 2014 @ 2:00 pm – 6:00 pm \nUR Potential Head office\,  \n296 Central Drive\nBlackpool\, FY1 5JW United Kingdom  \n  \nInternational Men’s Day is on 19th November and to celebrate URPotential are holding an event at UR Potential offices (296 Central Drive\, Blackpool\, FY1 5JW) from 2pm-6pm to help support and raise awareness for men’s health and wellbeing with stalls\, information and presentations. http://urpotential.co.uk/cms/international-mens-day/ International Men’s Day 2014 aims to highlight positive male role models\, provide health and wellbeing advice and to promote gender awareness and gender equality. There will also be an opportunity to find out about career and volunteering opportunities and will be attended by… \nAll Parliamentary Fatherhood Group and Working with Men Hold Event in Parliament \n19 November 2014 @ 3:00 pm – 4:00 pm \nHouse of Commons\,  \nWestminster\, SW1A 0AA United Kingdom  \n  \nThe All Party Parliamentary Group (APPG) on Fatherhood chaired by David Lammy MP and administered by the charity Working With Men will holding a meeting at the House of Commons to mark International Men’s Day. Speakers including representatives from the Royal College of Midwives\, the Design Council\, the Fatherhood Institute and Croydon Council. Speakers – Simon Popay – Policy Advisor\, Royal College of Midwives – Involving Fathers in Maternity Care – Gavin Swann -Head of Service\, Safeguarding\, Quality Assurance\, Social… \n  \nParliamentary Staff to Mark International Men’s Day \n19 November 2014 @ 3:00 pm – 4:30 pm \nHouse of Parliament\,  \nWestminster\, SW1A 0AA  \nParliagender (Parliament’s workplace equality network) is holding an International Men’s Day event for parliamentary staff at the House of Commons as part of Parliament Week. Speakers will talk on subjects such as Movember\, Men’s Heath and Flexible Working. Website: https://www.parliamentweek.org/event/international-mens-day/   The invite is for Parliament Staff Only \nJoin Deep Diving For Men’s Waterloo ‘Pop Up’ Performances on International Men’s Day \n  \n19 November 2014 @ 3:00 pm – 9:00 pm \nLondon Waterloo Station\,  \nWaterloo Road\nLondon\, SE1 8SW United Kingdom  \n  \nDeep Diving For Men\, a men’s theatre workshop group\, will be performing “pop up” performances around the Waterloo Station area.   Web: http://www.deepdivingmen.com/ and http://www.deepdivingmen.com/?p=1404   Contact Duncan Alldridge:  duncan@deepdivingmen.com   Multi-generational pods of men ‘pop up’ running around London Waterloo Station on Weds 19th Nov INTERNATIONAL MEN’S DAY in a 4 min script + Raise awareness of International Men’s Day \nLancaster YMCA Boxercise and Iron Man Challenge \n19 November 2014 @ 6:00 pm – 9:00 pm \nLancaster YMCA\,  \nFleet Square\nLancaster\, Lancashire LA1 1EZ United Kingdom  \nJoin this great sounding event at Lancaster YMCA : Fleet Square\, Lancaster\, Lancashire LA1 1EZ \nMen Do Complain Demonstration at the Savoy \n19 November 2014 @ 6:00 pm – 9:00 pm \nThe Savoy Hotel\,  \nSavoy Place\nLondon\, WC2R 0BL United Kingdom  \nThe campaign group Men Do Complain is staging an International Men’s Day demonstration on Wednesday 19th November at Savoy Place in London WC2R 0BL where it will call on the NSPCC to take action to protect boys in the UK from medically unnecessary circumcision.   Web: http://www.mendocomplain.com/   Contact Richard Duncker richard@mendocomplain.com \nMENSPEAK Men’s Group London \n19 November 2014 @ 6:45 pm – 9:30 pm \nThe Pirate Castle\,  \nOval Road\, Gilbey’s Wharf\nCamden\, London\, NW1 7EA United Kingdom  \nCelebrate International Men’s Day! http://www.meetup.com/menspeak/events/216129102/ \n  \nSutton College of Learning for Adults (SCOLA) to Mark International Men’s Day \n20 November 2014 @ 6:00 pm – 25 November 2014 @ 8:00 pm \nSCOLA\,  \nSt Nicholas Way\nSutton\, SM1 1EA United Kingdom  \nThis November we will be running a series of one-off courses exclusively for Gents to celebrate International Men’s Day 2014!  They are all just £2.50 each*! http://www.scola.ac.uk/news-post/mensweek/  12 Exercise Ideas For Men’s Health 20/11/14 6pm-7pm  Superhero Saturday: Draw & Paint your favourite action toy for dads & kids (ages 5+) 22/11/14 10am-12pm  ESOL: English for Beginners 24/11/14 7pm-8pm  Gadget Guru: Exploring i-Pads\, Photoshop & More 25/11/14 7pm-8pm  Train for Spain: Essential Spanish 25/11/14 7pm-8pm Guitar Heroes: Acoustic/Electric Guitar for Beginners 25/11/14 7pm-8pm  … \n  \nNewcastle University Students Union Celebrate International Men’s Day \n21 November 2014 @ 11:00 am – 7:00 pm \nNewcastle University Students Union\,  \nKIng’s Walk\nNewcastle\, NE1 8QB United Kingdom  \nNewcastle University Student Union are holding a day of live music\, poetry and awareness reasing about men’s mental health issues. Web: http://www.nusu.co.uk/news/article/6516/International-Mens-Day-Mind-Your-Moustache/ Although the offical day for International Men’s Day is Wednesday of this week\, at NUSU we are holding the day on the Friday\, so we can tie up with the weekly Men’s Bar event- “Expresso Yourself” (an afternoon of live acoustic singers). On the day\, there will be a tent set up outside the Students’ Union from 11am… \n  \nRadstock Council\, Somerset\, Celebrates International Men’s Day \n22 November 2014 @ 8:00 am – 10:00 am \nMethodist Church Hall\,  \nRadstock\, United Kingdom  \n  \nRadstock Town Council has organised a breakfast to celebrate International Men’s Day on Saturday\, November 22 between 8am and 9.30am. The event will focus on health\, improving gender relations\, promoting gender equality\, and highlighting positive male role models. Dr Bruce Laurence\, director of public health in Bath and North East Somerset has agreed to come along and Sirona are providing a display about health for men. The event is being hosted by Councillor Mike Boulton\, deputy chair of Radstock Town… \n  \nBritish Deaf Association (NI) Announce “Working Together for Men and Boys” Event in Belfast \n22 November 2014 @ 2:00 pm – 5:00 pm \nWellington Park Hotel\,  \n21 Malone Road\nBelfast\, BT9 6RU  \nThe British Deaf Association (NI) have announced they are holding a  “Working Together for Men and Boys” event in Belfast. When: 22 November 2014 Time: 2pm to 5pm Details: ‘Working Together for Men and Boys’ BDA (NI) is pleased to confirm this year’s event will be held on Saturday 22nd November. Location: Wellington Park Hotel\, 21 Malone Road\, Belfast\, BT9 6RU All Deaf men are warmly invited To book a place\, please contact Colette McMahon: Email: eco.ni@bda.org.uk SMS/Facetime: 07824 77166… \n 
URL:https://ukmensday.org.uk/event/2014-international-mens-day-events/
END:VEVENT
BEGIN:VEVENT
DTSTART;TZID=Europe/London:20131101T080000
DTEND;TZID=Europe/London:20131130T170000
DTSTAMP:20260423T223541
CREATED:20190728T120447Z
LAST-MODIFIED:20190728T120814Z
UID:2842-1383292800-1385830800@ukmensday.org.uk
SUMMARY:2013 International Men's Day Events
DESCRIPTION:National Conference for Men and Boys \n26 September 2013 – 29 September 2013 \nBrighton\,  \nThe Third National Conference for Men and Boys 2013  takes place on from Thursday 26th September to Sunday 29th September. It is the UK’s biggest gathering of people committed to improving the lives of men and boys. \nNational Conference on Male Victims of Domestic Abuse \n10 October 2013 \nMARS Conference Centre\,  \nSlough \n The ManKind Initiative are running a national conference on male victims of domestic abuse aimed at professional and interested parties wanting to find out how to support men suffering in silence. Details can be found at the charity’s website here. \nMovember \n1 November 2013 – 30 November 2013 \nAcross the UK\,  \nUnited Kingdom \nDuring November each year\, Movember is responsible for the sprouting of moustaches on thousands of men’s faces in the UK and around the world. The aim of which is to raise vital funds and awareness for men’s health\, specifically prostate cancer and testicular cancer. \nRadstock Town Council marks IMD with event and debate \n16 November 2013 @ 1:00 pm – 3:00 pm \nRadstock Methodist Hall\,  \nRadstock\,  \nRadstock Council in Somerset is to mark International Men’s Day on 16 November. The local newspaper reports that the event the council will hold will take place on Saturday\, November 16\, in the Methodist Church Hall\, Radstock\, from 1pm to 3pm and will be hosted by councillor Mike Boulton\, the council’s deputy chairman. The event will feature a number of agencies such as Sirona Care and Health\, the police and fire services and a local gym Mr Boulton said: “Do come along to… \nSilence for Pounds in Manchester \n19 November 2013 \nGreater Manchester \n‎ Survivors Manchester (a survivor-led/survivor-run voluntary organisation) is running a sponsored silence on International Men’s Day in Greater Manchester. This in order to highlight the silence boys and men feel as victims of sexual abuse and rape and in the process raise money to provide emotional support to male survivors. They are looking for individuals\, offices\, whole organisations to take part in this event. It doesn’t matter whether you choose to be quiet for an hour\, a morning or afternoon\, or even a… \nAPPG on Fatherhood \n19 November 2013 @ 3:00 pm – 4:00 pm \nHouse of Parliament\,  \nWestminster\, SW1 \nMen Against Violence \n19 November 2013 @ 4:30 pm – 8:30 pm \nBlackburn University Centre\,  \n  \nThis year in Blackburn\, on 19 November\, Men Against Violence and Women’s Voice are hosting a fantastic VIOLENCE AGAINST MEN  event on IMD in partnership with a range of other organisations. Women’s Voice is led by Anjum Anwar MBE and in recent years they have ran events about a range of hate crimes including disability and racism Duncan Craig from Survivors Manchester and Simon Borja from Safer Wales are the keynote speakers. If you are interested in this subject or live near Blackburn in… \nBritish Deaf Association (NI) – Keeping Men and Boys Safe event \n19 November 2013 @ 7:00 pm – 9:30 pm \nKinghan Church for the Deaf\,  \nBelfast\, BT7 1JG  \nFor the second year running\, The British Deaf Association in Northern Ireland are holding an event on International Men’s Day in Belfast. The event at Kinghan Church for the Deaf in Botanic Avenue in Belfast (7pm to 9.30pm) will feature speakers\, John Nichol and Philip McTaggart. If you are in Northern Ireland on International Men’s Day\, this is the event to attend! \nEquality4Men Book Launch \n19 November 2013 @ 7:00 pm – 9:00 pm \nBrighton \nThe equality4men campaign is giving an official launch to the new Equality For Men book by Glen Poole on International Men’s Day.   Glen will be giving a talk about his seminal book and hosting a questions and answers session at the launch\, which will be held in Brighton on the evening of Tuesday 19th November. During November\, Glen has been promoting 120 reasons why we need Equality 4 Men to mark International Men’s day. The event is ticketed event\, which costs £5 in advance or £8… \nMENSPEAK spill the beans event \n19 November 2013 @ 7:30 pm – 9:30 pm \nMen’s Shed (The Sundial Centre)\,  \nShipton Street\, Hoxton \nMen spill the beans on their personal\, quirky and relationship experiences at a free London storytelling event for International Men’s Day Men will be invited to share their stories to a mixed audience\, dispelling the myth that men don’t speak\, at a special event in London on 19 November 2013 to mark the 13th annual International Men’s Day. Organised by MENSPEAK Men’s Groups and Men Beyond 50\, this free event will provide insight into the hearts and minds of men\,… \nIsle of Man College event \n19 November 2013 @ 11:30 pm \nIsle of Man College\,  \nDouglas\, IM2 6RB  \nThe Isle of Man will be celebrating International Men’s day with a range of organisations taking part at Isle of Man College in Douglas on International Men’s Day itself. As the news story sets out: Health and well-being co-ordinator Kate Bergquist said: ‘The overall aim of the day will be to treat the guys to lots of nice treats and to raise awareness of boys’ health and their safety. ‘People all over the world are used to relating to men as protectors and providers.… \nCreative Support event in Leeds \n20 November 2013 @ 12:30 pm – 4:00 pm \nCourtyard Creativities\,  \n96 Town Street\nHorsforth\, Leeds\, LS18 4AP  \nFor the second year in a row\, Creative Support (a high quality provider of person centred social care services for people with learning disabilities\, mental health and other needs) is marking International Men’s day by holding an excellent event in Leeds on 20 November. As well as the opportunity to meet BBC star and film-maker\, Jonny Benjamin\,  there is an opportunity to ‘have fun\, have a chat\, hang out with the lads and raise awareness of mental health and wellbeing’ Details can be found… \n 
URL:https://ukmensday.org.uk/event/2013-international-mens-day-events/
END:VEVENT
BEGIN:VEVENT
DTSTART;TZID=Europe/London:20260423T223541
DTEND;TZID=Europe/London:20260423T223541
DTSTAMP:20260423T223541
CREATED:20200920T101106Z
LAST-MODIFIED:20200920T103119Z
UID:3188-0-0@ukmensday.org.uk
SUMMARY:Rocking ur Teens Annual International Men's Day Event
DESCRIPTION:More details to come – see article here: https://www.fairplaytalks.com/2020/09/14/how-to-equip-young-men-with-the-skills-to-become-tomorrows-leaders-a-gift-for-the-next-generation/ \nKeep checking: http://rockingurteens.com/ \n  \nNovember 19th 2020 is International Men’s Day. It is the day where we encourage men and women to consider what challenges men might face in today’s society. Some of you might read this and struggle to think about what issues men face; we live in a world designed for men. This viewpoint is not an untrue assumption. However\, male suicide is on the rise and it’s compounded with the isolation of not feeling like they can speak up about their emotions as a man. This is stopping our young men from sharing their feelings and getting the support they need. \nThat is why Rocking Ur Teens will be hosting our annual International Men’s day event on Wednesday November 11th\, 2020. Speakers from a cross-section of society will speak to the young men attending the event about their journey\, how they have managed their mental well-being\, how they can be a change agent for gender equality and what it means to be a modern man. \n  \n 
URL:https://ukmensday.org.uk/event/rocking-ur-teens2020/
LOCATION:TBC (see link above)
END:VEVENT
END:VCALENDAR