BEGIN:VCALENDAR
VERSION:2.0
PRODID:-//International Men&#039;s Day (UK) - ECPv6.15.5//NONSGML v1.0//EN
CALSCALE:GREGORIAN
METHOD:PUBLISH
X-ORIGINAL-URL:https://ukmensday.org.uk
X-WR-CALDESC:Events for International Men&#039;s Day (UK)
REFRESH-INTERVAL;VALUE=DURATION:PT1H
X-Robots-Tag:noindex
X-PUBLISHED-TTL:PT1H
BEGIN:VTIMEZONE
TZID:Europe/London
BEGIN:DAYLIGHT
TZOFFSETFROM:+0000
TZOFFSETTO:+0100
TZNAME:BST
DTSTART:20250330T010000
END:DAYLIGHT
BEGIN:STANDARD
TZOFFSETFROM:+0100
TZOFFSETTO:+0000
TZNAME:GMT
DTSTART:20251026T010000
END:STANDARD
END:VTIMEZONE
BEGIN:VEVENT
DTSTART;TZID=Europe/London:20251121T180000
DTEND;TZID=Europe/London:20251121T220000
DTSTAMP:20260421T081545
CREATED:20250928T092324Z
LAST-MODIFIED:20250928T092748Z
UID:4995-1763748000-1763762400@ukmensday.org.uk
SUMMARY:Portsmouth  / DadzClub International Men's Day Awards
DESCRIPTION:Every year\, the great city of Portsmouth and great organisation DadzClub run an International Men’s Day event and awards – 2025 is no different! \nSee here for information:  https://dadzclub.com/international-mens-day  \nDate to be confirmed! \nThis year’s Global theme – “Supporting Men and Boys” – invites an honest look at where boys fall behind at school\, where young men disengage\, and where too many men face isolation and mental ill-health. \nIt also shines a light on the mentors\, dads\, teachers\, coaches\, employers and community programmes creating safe\, positive spaces for boys to thrive and for men to ask for help without judgement. \nThe day is a chance to recognise practical\, local action—celebrating role models\, strengthening father-inclusive practice\, and backing initiatives that build connection\, skills and confidence. It encourages communities to elevate what’s already working and to champion a culture that supports men and boys with empathy\, accountability and respect.
URL:https://ukmensday.org.uk/event/portsmouth25/
LOCATION:Mary Rose Museum\, HM Naval Base\, Main Road\, Portsmouth\, PO1 3PY
END:VEVENT
BEGIN:VEVENT
DTSTART;TZID=Europe/London:20251122T093000
DTEND;TZID=Europe/London:20251122T160000
DTSTAMP:20260421T081545
CREATED:20250928T112758Z
LAST-MODIFIED:20250928T112758Z
UID:5035-1763803800-1763827200@ukmensday.org.uk
SUMMARY:Men's Conference: From Brokenness to Wholeness
DESCRIPTION:Calling all Men! TWNAF UK is inviting you to join us at our Men’s Conference: From Brokenness to Wholeness. \nDetails: https://www.eventbrite.co.uk/e/mens-conference-from-brokenness-to-wholeness-tickets-1637005951869?aff=ebdssbdestsearch
URL:https://ukmensday.org.uk/event/twnaf-2025/
LOCATION:King’s Cross Baptist Church\, Vernon Square\, London\, WC1X 9EW
END:VEVENT
BEGIN:VEVENT
DTSTART;TZID=Europe/London:20251122T100000
DTEND;TZID=Europe/London:20251122T140000
DTSTAMP:20260421T081545
CREATED:20251109T115400Z
LAST-MODIFIED:20251109T115400Z
UID:5174-1763805600-1763820000@ukmensday.org.uk
SUMMARY:International Men's Day Art Festival - Biggleswade
DESCRIPTION:Celebrating International Men’s Day at The Bigg Theatre in Biggleswade (19th Nov to 8th Dec) \n  \nPop into The Bigg Theatre\, enjoy a coffee in the café and admire the International Men’s Day art\, featuring a few local male artists. \n2025 IMD celebrates men and boys by exploring the following themes: \n\nMaking a positive difference to the wellbeing and lives of men and boys\nPromoting a positive conversation about man\, manhood and masculinity\nRaising awareness and/or funds for charities supporting men and boys’ wellbeing\n\n  \nHow does each piece of art reflect these themes? \nDo they inspire you or simply give you a moment to reflect? \n  \nThe Bigg Theatre is open from 10 am to 2 pm\, Tuesday to Saturday inclusive… \n… a welcoming space for all.
URL:https://ukmensday.org.uk/event/biggleswade20252/
LOCATION:The Bigg Theatre\, 36 High St\,\, Biggleswade\, SG18 0JL
END:VEVENT
BEGIN:VEVENT
DTSTART;TZID=Europe/London:20251123T123000
DTEND;TZID=Europe/London:20251123T200000
DTSTAMP:20260421T081545
CREATED:20251019T142851Z
LAST-MODIFIED:20251019T142851Z
UID:5079-1763901000-1763928000@ukmensday.org.uk
SUMMARY:International Men's Day Firewalk
DESCRIPTION:International Men’s Day is the 19th of November\, so come and celebrate the day with us on 23rd with good intentions. \nLets come together as a group of men to support and grow together\, we are under so much pressure we never really get that chance to connect and support each other\, in building this community we are coming together in support of each other but also to give ourselves a chance to speak and be heard. \nJoin us for the International Mens Day Firewalk event at NE6 3EU. \nThis in-person experience will challenge you to conquer your fears and push past your limits. \nStep out of your comfort zone and into a new level of self-empowerment. Don’t miss this opportunity to connect with other men and celebrate the power within you. We will build the fire as a team and then chat as it burns down\, before facing the challenge of walking it. Are you brave enough to take on the fire?
URL:https://ukmensday.org.uk/event/firewalk25/
LOCATION:Redstead Cottages\, Christon Bank\, NE66 3EU
END:VEVENT
BEGIN:VEVENT
DTSTART;TZID=Europe/London:20251123T160000
DTEND;TZID=Europe/London:20251123T233000
DTSTAMP:20260421T081545
CREATED:20250928T104554Z
LAST-MODIFIED:20250928T104554Z
UID:5019-1763913600-1763940600@ukmensday.org.uk
SUMMARY:Power of Men Awards
DESCRIPTION:The Power Of Man Awards & International Men’s day celebration \nJoin us for a spectacular evening of glitz and glamour to celebrate all men of colour and their amazing achievements. \nhttps://www.eventbrite.co.uk/e/the-power-of-man-awards-international-mens-day-celebration-tickets-1283851818349?aff=ebdssbdestsearch
URL:https://ukmensday.org.uk/event/power-of-men-awards25/
LOCATION:De Vere Grand Connaught Rooms\, 61-65 Great Queen Street\, London\, London WC2B 5DA
END:VEVENT
BEGIN:VEVENT
DTSTART;TZID=Europe/London:20251123T170000
DTEND;TZID=Europe/London:20251123T223000
DTSTAMP:20260421T081545
CREATED:20251102T160155Z
LAST-MODIFIED:20251102T160155Z
UID:5139-1763917200-1763937000@ukmensday.org.uk
SUMMARY:Sutm'Light: International Men's Day Panel
DESCRIPTION:Overview\n\n\n\n\n\nThis International Men’s Day\, Sutm’Light proudly presents another inspiring panel – Celebrating Men.\n\n\n\n\nhttps://www.eventbrite.co.uk/e/sutmlight-international-mens-day-panel-tickets-1834253374219?aff=ebdssbdestsearch
URL:https://ukmensday.org.uk/event/sutmlight25/
LOCATION:Qube Elephant and Castle\, 22 Ash Avenue\, SE17 1HS
END:VEVENT
BEGIN:VEVENT
DTSTART;TZID=Europe/London:20251124T173000
DTEND;TZID=Europe/London:20251124T220000
DTSTAMP:20260421T081545
CREATED:20251109T163042Z
LAST-MODIFIED:20251109T163042Z
UID:5200-1764005400-1764021600@ukmensday.org.uk
SUMMARY:National Men and Boys Awards
DESCRIPTION:Nominations for the National Men and Boys Awards 2025 are now closed. \nWe have been blown away by the number of you who took time and effort to make nominations\, and we are enormously grateful to you all. The nominations were a fantastic reflection of the amazing work being done all over the country to promote care\, compassion and social change for men and boys. Every one of our categories could have been filled five times over and we would still have had room to spare. \nIn the run up to International Men’s Day we will begin announcing the shortlisted nominees\, with the Winners being announced on November 24th. Do please return to this page and to our social media sites where we will be making the announcements. \nOur thanks go to Movember for their support for this year’s Awards \nThis is a closed and full event – the media and other interested parties can contact Ally Fogg at chair@amhw.org.uk for details
URL:https://ukmensday.org.uk/event/national-men-and-boys-awards25/
END:VEVENT
END:VCALENDAR