BEGIN:VCALENDAR
VERSION:2.0
PRODID:-//International Men&#039;s Day (UK) - ECPv6.15.5//NONSGML v1.0//EN
CALSCALE:GREGORIAN
METHOD:PUBLISH
X-WR-CALNAME:International Men&#039;s Day (UK)
X-ORIGINAL-URL:https://ukmensday.org.uk
X-WR-CALDESC:Events for International Men&#039;s Day (UK)
REFRESH-INTERVAL;VALUE=DURATION:PT1H
X-Robots-Tag:noindex
X-PUBLISHED-TTL:PT1H
BEGIN:VTIMEZONE
TZID:Europe/London
BEGIN:DAYLIGHT
TZOFFSETFROM:+0000
TZOFFSETTO:+0100
TZNAME:BST
DTSTART:20210328T010000
END:DAYLIGHT
BEGIN:STANDARD
TZOFFSETFROM:+0100
TZOFFSETTO:+0000
TZNAME:GMT
DTSTART:20211031T010000
END:STANDARD
BEGIN:DAYLIGHT
TZOFFSETFROM:+0000
TZOFFSETTO:+0100
TZNAME:BST
DTSTART:20220327T010000
END:DAYLIGHT
BEGIN:STANDARD
TZOFFSETFROM:+0100
TZOFFSETTO:+0000
TZNAME:GMT
DTSTART:20221030T010000
END:STANDARD
END:VTIMEZONE
BEGIN:VEVENT
DTSTART;TZID=Europe/London:20221118T090000
DTEND;TZID=Europe/London:20221118T130000
DTSTAMP:20260423T174250
CREATED:20221009T102038Z
LAST-MODIFIED:20221009T152731Z
UID:4045-1668762000-1668776400@ukmensday.org.uk
SUMMARY:University of Chester International Men's Day Conference
DESCRIPTION:The University of Chester has recently established a Men’s Network and this event is the network’s first project. The event is open to all.
URL:https://ukmensday.org.uk/event/universityofchester22/
LOCATION:Univerity of Chester\, Binks 013\, Parkgate Road\, Chester\, CH1 4BJ
END:VEVENT
BEGIN:VEVENT
DTSTART;TZID=Europe/London:20221117T190000
DTEND;TZID=Europe/London:20221117T210000
DTSTAMP:20260423T174250
CREATED:20221009T135441Z
LAST-MODIFIED:20221009T152438Z
UID:4051-1668711600-1668718800@ukmensday.org.uk
SUMMARY:Boxer Johnny Nelson: Keeping fit in middle age
DESCRIPTION:Hear it from the Boxer Johnny Nelson and professionals\, first hand advice on kickstarting your mid-life health journey and staying motivated for an active life.
URL:https://ukmensday.org.uk/event/boxer-johnny-nelson-keeping-fit-in-middle-age/
LOCATION:At The Core\, Beehive Yard\, Walcot Street\, Bath\, BA1 5BT
END:VEVENT
BEGIN:VEVENT
DTSTART;TZID=Europe/London:20221117T170000
DTEND;TZID=Europe/London:20221117T200000
DTSTAMP:20260423T174250
CREATED:20221111T191553Z
LAST-MODIFIED:20221111T191553Z
UID:4176-1668704400-1668715200@ukmensday.org.uk
SUMMARY:Cardiff & District Law Society Conference - Men's Mental Health
DESCRIPTION:Join Cardiff & District Law Society\, LawCare and Better Men for a free\, virtual event to mark International Men’s Day 2022 – with a focus on wellbeing and mental health.
URL:https://ukmensday.org.uk/event/cardifflaw22/
LOCATION:Online
END:VEVENT
BEGIN:VEVENT
DTSTART;TZID=Europe/London:20221117T160000
DTEND;TZID=Europe/London:20221117T170000
DTSTAMP:20260423T174250
CREATED:20220821T113508Z
LAST-MODIFIED:20220821T122628Z
UID:3981-1668700800-1668704400@ukmensday.org.uk
SUMMARY:Mental Health Webinar (IP Inclusive and Jonathan's Voice)
DESCRIPTION:IP Inclusive and Jonathan’s Voice are holding a webinar on why men are taking their own lives based on research from Susie Bennett  at the University of Glasgow’s Suicidal Behaviour Research Laboratory.
URL:https://ukmensday.org.uk/event/ip-inclusive2022/
LOCATION:Online
END:VEVENT
BEGIN:VEVENT
DTSTART;TZID=Europe/London:20221117T140000
DTEND;TZID=Europe/London:20221117T170000
DTSTAMP:20260423T174250
CREATED:20221111T200102Z
LAST-MODIFIED:20221111T200314Z
UID:4194-1668693600-1668704400@ukmensday.org.uk
SUMMARY:House of Commons - International Men's Day Debate
DESCRIPTION:Nick Fletcher MP (Chair of the All Party Parliamentary Group on Issues Affecting Men and boys) has secured an International Men’s Day event in the House of Commons chamber. No precise time but is after the Chancellor’s statement.
URL:https://ukmensday.org.uk/event/house-of-commons22/
LOCATION:House of Commons\, Westminster\, London\, SW1A 0AA
END:VEVENT
BEGIN:VEVENT
DTSTART;TZID=Europe/London:20221117T100000
DTEND;TZID=Europe/London:20221117T110000
DTSTAMP:20260423T174250
CREATED:20221102T212209Z
LAST-MODIFIED:20221102T212209Z
UID:4104-1668679200-1668682800@ukmensday.org.uk
SUMMARY:Inclusive Employers event
DESCRIPTION:Join Inclusive Employers for a webinar where we will discuss the impacts of stereotypes and societal expectations on men’s health.
URL:https://ukmensday.org.uk/event/inclusive-employers-event/
LOCATION:Online
END:VEVENT
BEGIN:VEVENT
DTSTART;TZID=Europe/London:20221116T173000
DTEND;TZID=Europe/London:20221116T203000
DTSTAMP:20260423T174250
CREATED:20221102T230131Z
LAST-MODIFIED:20221102T230833Z
UID:4126-1668619800-1668630600@ukmensday.org.uk
SUMMARY:The Current State of Allyship
DESCRIPTION:In partnership with Women on the Wharf and hosted by Experian\, Men for Inclusion are creating a discussion space for men and women to share their thoughts on allyship.
URL:https://ukmensday.org.uk/event/the-current-state-of-allyship/
LOCATION:Salesforce Tower\, 110 Bishopsgate\, London\, EC2N 4AY
END:VEVENT
BEGIN:VEVENT
DTSTART;TZID=Europe/London:20221116T110000
DTEND;TZID=Europe/London:20221116T120000
DTSTAMP:20260423T174251
CREATED:20220821T122347Z
LAST-MODIFIED:20220821T122436Z
UID:3987-1668596400-1668600000@ukmensday.org.uk
SUMMARY:Celebrating International Men’s Day (Inclusive Employers)
DESCRIPTION:Listen to Keith Winestein (National Diversity Awards 2021 LGBT Positive Role Model.) speak about the series of health challenges affecting men with a focus on mental health and wellbeing.
URL:https://ukmensday.org.uk/event/inclusive-employers2022/
LOCATION:Online
END:VEVENT
BEGIN:VEVENT
DTSTART;TZID=Europe/London:20221116T100000
DTEND;TZID=Europe/London:20221116T153000
DTSTAMP:20260423T174251
CREATED:20221114T200230Z
LAST-MODIFIED:20221114T200230Z
UID:4208-1668592800-1668612600@ukmensday.org.uk
SUMMARY:Men's Voices 2022 Conference: Central England Co-op
DESCRIPTION:The day is focused around getting men to talk and listen to current topics that affect men including workshops on; Men’s Mental Health\, Work Life Balance\, Male Suicide and more. There’ll also be a mindfulness section to the day with opportunity to reflect or escape through physical and mental activity.
URL:https://ukmensday.org.uk/event/mens-voices-2022/
LOCATION:Burton Albion FC\, Burton Albion Football Club\, Princess Way Burton upon Trent\, DE13 0AR\, United Kingdom
END:VEVENT
BEGIN:VEVENT
DTSTART;TZID=Europe/London:20221116T093000
DTEND;TZID=Europe/London:20221116T130000
DTSTAMP:20260423T174251
CREATED:20220821T105540Z
LAST-MODIFIED:20220821T105540Z
UID:3976-1668591000-1668603600@ukmensday.org.uk
SUMMARY:Male Domestic Abuse Conference (ManKind Initiative)
DESCRIPTION:The annual (the tenth ever) national domestic abuse conference for male victims of domestic is to be held once again by the ManKind Initiative charity.
URL:https://ukmensday.org.uk/event/male-domestic-abuse-conference2022/
LOCATION:Online
ORGANIZER;CN="ManKind Initiative":MAILTO:conference@mankind.org.uk
END:VEVENT
BEGIN:VEVENT
DTSTART;TZID=Europe/London:20221115T130000
DTEND;TZID=Europe/London:20221115T170000
DTSTAMP:20260423T174251
CREATED:20221111T195423Z
LAST-MODIFIED:20221111T195423Z
UID:4190-1668517200-1668531600@ukmensday.org.uk
SUMMARY:Newcastle University Geography Society - Mental Health Event
DESCRIPTION:The aims are to promote Mental Health Awareness\, and initiate conversations between students\, making a positive difference to the wellbeing and lives of men and boys
URL:https://ukmensday.org.uk/event/newcastle-university22/
LOCATION:Newcastle University\, Newcastle-upon-Tyne\, NE1 7RU
END:VEVENT
BEGIN:VEVENT
DTSTART;TZID=Europe/London:20221115T130000
DTEND;TZID=Europe/London:20221115T140000
DTSTAMP:20260423T174251
CREATED:20221102T212756Z
LAST-MODIFIED:20221102T213049Z
UID:4106-1668517200-1668520800@ukmensday.org.uk
SUMMARY:Empowering Men To Talk About Health
DESCRIPTION:Let’s talk about men’s health with We Are The City and key speakers.
URL:https://ukmensday.org.uk/event/wearecity22/
LOCATION:Online
END:VEVENT
BEGIN:VEVENT
DTSTART;TZID=Europe/London:20221114T180000
DTEND;TZID=Europe/London:20221114T190000
DTSTAMP:20260423T174251
CREATED:20221102T202145Z
LAST-MODIFIED:20221102T211636Z
UID:4101-1668448800-1668452400@ukmensday.org.uk
SUMMARY:Mental Health First Aid Taster Session
DESCRIPTION:The Scottish Young Lawyers Association are delighted to share that we are hosting a Mental Health First Aid taster session in partnership with Forrest Training.
URL:https://ukmensday.org.uk/event/syla22/
LOCATION:Online
END:VEVENT
BEGIN:VEVENT
DTSTART;TZID=Europe/London:20221114T153000
DTEND;TZID=Europe/London:20221114T173000
DTSTAMP:20260423T174251
CREATED:20221111T193937Z
LAST-MODIFIED:20221111T193937Z
UID:4182-1668439800-1668447000@ukmensday.org.uk
SUMMARY:ASIS UK  - Male mental health event (British Library)
DESCRIPTION:As part of Self Care Week and to celebrate International Men’s Mental Health Day\, ASIS UK – ED&I Group are hosting an event at The British Library.
URL:https://ukmensday.org.uk/event/asis22/
LOCATION:British Library\, 96 Euston Rd\, London\, NW1 2DB
END:VEVENT
BEGIN:VEVENT
DTSTART;TZID=Europe/London:20221112T100000
DTEND;TZID=Europe/London:20221112T120000
DTSTAMP:20260423T174251
CREATED:20221111T185301Z
LAST-MODIFIED:20221111T185301Z
UID:4160-1668247200-1668254400@ukmensday.org.uk
SUMMARY:Working Parents: making it work conference
DESCRIPTION:An International Men’s Day Event with Dr Jasmine Kelland\, Lecturer in Human Resource Studies/Leadership and author Simon Kettlewell.
URL:https://ukmensday.org.uk/event/working-parents-making-it-work-conference/
LOCATION:The Box\, Foulston Room\, Tavistock Place\, Plymouth\, PL4 8AX
END:VEVENT
BEGIN:VEVENT
DTSTART;TZID=Europe/London:20221103T100000
DTEND;TZID=Europe/London:20221103T110000
DTSTAMP:20260423T174251
CREATED:20221030T114746Z
LAST-MODIFIED:20221030T115558Z
UID:4090-1667469600-1667473200@ukmensday.org.uk
SUMMARY:Breaking Down the Stigma of Male Mental Health
DESCRIPTION:In this session\, we hear from real men with lived experienced of suicidal thoughts\, anxiety and depression speaking openly and honestly about their journey. We will hear how they want to eliminate the stigma surrounding mental health and create a judgement-free\, confidential space where men can be open about the storms in their lives. \nANDYSMANCLUB are a men’s suicide prevention charity\, offering free-to-attend peer-to-peer support groups across the United Kingdom and online. We want to end the stigma surrounding men’s mental health and help men through the power of conversation. #ITSOKAYTOTALK
URL:https://ukmensday.org.uk/event/wdn02/
LOCATION:Online
END:VEVENT
BEGIN:VEVENT
DTSTART;TZID=Europe/London:20221101T100000
DTEND;TZID=Europe/London:20221101T110000
DTSTAMP:20260423T174251
CREATED:20221030T114506Z
LAST-MODIFIED:20221030T114506Z
UID:4087-1667296800-1667300400@ukmensday.org.uk
SUMMARY:Lumps & Bumps\, My Journey
DESCRIPTION:Date: 01 November 22   \n\n\nTIME: 1000 – 1045hrs\n\n\nTITLE: Lumps & Bumps\, My Journey\n\n\nOVERVIEW:  \nFollowing a recent experience of finding a pea size lump in a personal area\, Ian will share his experiences and journey of visiting the doctor\, having a biopsy\, wearing a catheter and managing moments of embarrassment. \nThis session is a full account with how Ian dealt finding a lump with the hope that his experience will help others.
URL:https://ukmensday.org.uk/event/wdn01/
LOCATION:Online
END:VEVENT
BEGIN:VEVENT
DTSTART;TZID=Europe/London:20221101T080000
DTEND;TZID=Europe/London:20221101T170000
DTSTAMP:20260423T174251
CREATED:20220821T110316Z
LAST-MODIFIED:20220821T122702Z
UID:3979-1667289600-1667322000@ukmensday.org.uk
SUMMARY:Movember UK
DESCRIPTION:Movember in the UK lasts from 1 November until 30 November.  Their website has lots of information on how to get involved.
URL:https://ukmensday.org.uk/event/movember-uk-start/
END:VEVENT
BEGIN:VEVENT
DTSTART;TZID=Europe/London:20211125T190000
DTEND;TZID=Europe/London:20211125T220000
DTSTAMP:20260423T174251
CREATED:20211010T132719Z
LAST-MODIFIED:20211010T132719Z
UID:3700-1637866800-1637877600@ukmensday.org.uk
SUMMARY:International Men's Day Film - Award Nomination
DESCRIPTION:Great to see The Edge Picture Company are shortlisted for EVCOM (Event & Visual Communication Association) for the London Film Awards. This is in the Diversity and Inclusion category for their 2019  International Men’s Day film for Standard Chartered. bank. \nThe date is 25 November. Good luck to all. \nThe awards: https://www.televisual.com/news/evcom-announces-london-live-and-film-awards-shortlist/ \nVideo: https://www.facebook.com/edgepicture/videos/1014740932206516/
URL:https://ukmensday.org.uk/event/imdfilmnomination2021/
LOCATION:Mayfair Hotel\, Stratton Street\, London\, W1J 8LT\, United Kingdom
END:VEVENT
BEGIN:VEVENT
DTSTART;TZID=Europe/London:20211125T133000
DTEND;TZID=Europe/London:20211125T163000
DTSTAMP:20260423T174251
CREATED:20211115T115403Z
LAST-MODIFIED:20211115T121340Z
UID:3838-1637847000-1637857800@ukmensday.org.uk
SUMMARY:House of Commons Debate: International Men's Day
DESCRIPTION:With more details to come but Mike Fletcher MP has secured an International Men’s Day debate (for the sixth year in a row possible*) on Thursday 25th at 1.30pm. It is a three hour debate in Westminster Hall. \nThe order of business is here: https://whatson.parliament.uk/commons/2021-11-25/ \nMore information will be available soon but as a reminder\, last year’s brilliant debate is here.
URL:https://ukmensday.org.uk/event/house-of-commons21/
LOCATION:House of Commons\, Westminster\, London\, SW1A 0AA
END:VEVENT
BEGIN:VEVENT
DTSTART;TZID=Europe/London:20211122T110000
DTEND;TZID=Europe/London:20211122T130000
DTSTAMP:20260423T174251
CREATED:20211106T140340Z
LAST-MODIFIED:20211106T140340Z
UID:3782-1637578800-1637586000@ukmensday.org.uk
SUMMARY:Men @ Meanwood : Supporting and Connecting Local Men
DESCRIPTION:Men @ Meanwood \nMonday 22 November\nTime: 11am – 1pm\nVenue: Meanwood Institute\, 94 Green Rd\, Meanwood\, Leeds LS6 4LD\nBook: Email lawrenceg@space2.org.uk\nA weekly social event dedicated to s. A time to catch up\, eat good food\, have a laugh\, play snooker and meet new people in a welcoming space. We meet weekly on Mondays – get your week off to a great start!
URL:https://ukmensday.org.uk/event/men-meanwood21/
LOCATION:Meanwood Institute\, 94 Green Rd\,\, Meanwood\, Leeds\, LS6 4LD
END:VEVENT
BEGIN:VEVENT
DTSTART;TZID=Europe/London:20211120T180000
DTEND;TZID=Europe/London:20211120T220000
DTSTAMP:20260423T174251
CREATED:20211010T140439Z
LAST-MODIFIED:20211010T140439Z
UID:3708-1637431200-1637445600@ukmensday.org.uk
SUMMARY:Celebrate Male Role Models in Nottingham/Nottinghamshire
DESCRIPTION:Chayah Development Project will be celebrating International Men’s day. \nCome and appreciate some of Nottingham/Nottinghamshire’s influential male role models. \nTo purchase tickets call 01159241244 or email info@chayahgroup.co.uk \nInformation: https://www.linkedin.com/posts/richard-macrae-37507977_chayah-development-project-will-be-celebrating-activity-6852504870608486400-iGT0 \n  \n  \n 
URL:https://ukmensday.org.uk/event/malerolemodelsnotts21/
LOCATION:Bestwood Road Social Club\, Bulwell\, Nottingham\, NG6 8UA
END:VEVENT
BEGIN:VEVENT
DTSTART;TZID=Europe/London:20211120T090000
DTEND;TZID=Europe/London:20211120T170000
DTSTAMP:20260423T174251
CREATED:20210904T113524Z
LAST-MODIFIED:20210904T113524Z
UID:3635-1637398800-1637427600@ukmensday.org.uk
SUMMARY:Real Men Conference - Celebrating International Men's Day
DESCRIPTION:  \n  \nAbout this event\n\n\nManhood is describe as “the condition of being human” or “the state or period of being a man rather than a child.” \nBut becoming or being a man is so much more and holds a different meaning to everyone. \n*The Conference for Real Men is a top tier event for men living in the Coventry/Warwickshire of Caribbean\, African decent or Mixed Heritage all the needs of today’s world. \nCelebrating international men’s day\, this event offers a safe space for men to discuss and find solutions to issues impacting on their mind\, body and soul. \nhttps://www.eventbrite.co.uk/e/real-men-conference-celebrating-international-mens-day-tickets-142567578465? \n 
URL:https://ukmensday.org.uk/event/real-men-conference-celebrating-international-mens-day/
LOCATION:Barras Heath\, Wava Hall\, Coventry\, CV2 4NJ
END:VEVENT
BEGIN:VEVENT
DTSTART;TZID=Europe/London:20211119T190000
DTEND;TZID=Europe/London:20211119T210000
DTSTAMP:20260423T174251
CREATED:20211106T142521Z
LAST-MODIFIED:20211106T142521Z
UID:3786-1637348400-1637355600@ukmensday.org.uk
SUMMARY:Better Health for Men & Boys (We Are The City)
DESCRIPTION:MM Academy Presents International Men’s Day special event Theme: Better Health for Men & Boys\n\n\n\n\n\n\n\nOn November 19 International Men’s Day celebrates worldwide the positive value men bring to the world\, their families\, and communities. We highlight positive role models and raise awareness of men’s well-being. \nhttps://wearethecity.com/19-11-2021-international-mens-day-special-event-marcia-m-spence/ \nJoin the MM Academy in disccusion with a panel of experts:\nTyrone Williams \nAuthor\,Mental Health Service User \nRoy McDonald \nAuthor\, Mental Health first Aid Instructor & Coach \nGeorgandez Morrison \nAuthor\, CEO/Founder Virtual Media Hive \nFrank Bolaji Irawo \nAuthor\, Poet and Transformational Coach \nRichard Anderson BA\, MCIA \nLecturer in Health & Social Care\, Trained Suicide Prevention First Aider
URL:https://ukmensday.org.uk/event/we-are-the-city21/
LOCATION:Online
END:VEVENT
BEGIN:VEVENT
DTSTART;TZID=Europe/London:20211119T190000
DTEND;TZID=Europe/London:20211119T200000
DTSTAMP:20260423T174251
CREATED:20210904T103809Z
LAST-MODIFIED:20210904T105554Z
UID:3631-1637348400-1637352000@ukmensday.org.uk
SUMMARY:Seven-a-Side Tournament  with Chapter Living
DESCRIPTION:Student Accommodation provider Chapter Living are holding a seven-a-side football tournament in Old Street on International Men’s day. Time to be advised with details on their events guide. Time below is an estimate.
URL:https://ukmensday.org.uk/event/chapter-living21/
LOCATION:Chapter One – Old Street\, 18 Paul St\,\, London\, EC2A 4JH
END:VEVENT
BEGIN:VEVENT
DTSTART;TZID=Europe/London:20211119T180000
DTEND;TZID=Europe/London:20211119T203000
DTSTAMP:20260423T174251
CREATED:20211117T224224Z
LAST-MODIFIED:20211117T224224Z
UID:3854-1637344800-1637353800@ukmensday.org.uk
SUMMARY:Trigger Hub Presents ManTalk
DESCRIPTION:What does it mean to “be a man”?\n\nTo celebrate the launch of TriggerHub.org & International Men’s Day\, we are proud to present Mantalk.\nJoin us and our Charity partners\, Shawmind\, Beyond\, and the Lion’s Barber Collective\, on 19th November 2021 for An evening with some of our celebrated authors\, Debunking myths about men’s mental health.\nTriggerHub.org is the first mental health organization of its kind. We are bringing mental health recovery and wellbeing balance to millions of people around the world through the power of our books.\nWe have built a first-class resource of books that are curated\, produced\, and published in-house to create a unique collection of mental health and wellbeing titles unrivaled in quality and selection.\n​\nWe work with experts\, psychologists\, doctors\, and coaches to produce our books\, but we also work with real people who are looking to share their stories to reach out to others and provide hope\, understanding\, and compassion. These brave authors also aim to raise awareness of the “human” face of mental health and its impact on everyday lives.\nWe believe in the power of books and the stories within…\n….Watch the conversation unfold live as our speakers tackle “man myths” and discuss what it really means to “be a man” in 2021…\n​\nJoin us for the ultimate men’s night in.\nFor more information: https://triggerhub.org/mantalk/
URL:https://ukmensday.org.uk/event/trigger-hub21/
LOCATION:Online
END:VEVENT
BEGIN:VEVENT
DTSTART;TZID=Europe/London:20211119T180000
DTEND;TZID=Europe/London:20211119T200000
DTSTAMP:20260423T174251
CREATED:20211106T135818Z
LAST-MODIFIED:20211106T135818Z
UID:3779-1637344800-1637352000@ukmensday.org.uk
SUMMARY:Daddy Blues – A short film screening with Leeds Dads
DESCRIPTION:A couple having their first child\, post natal depression and a father’s perspective. Director Parvinder Shergill & Novel by Mark Williams.\n\n\n\n\n\nAbout this event\n\n\n  \nDaddy Blues (Short 2021) A couple suffer post natal depression\, from the perspective of a father getting help for his mental health after his first child is born\, based on the book Daddy Blues by Mark Williams. \nDirectors Parvinder Shergill \nStarring Parvinder Shergill\, Ben T. Williams\, Lewis Amaluzor \n____________________________________________________ \nBaby Week Leeds understand that it has been a very difficult time during the pandemic and we wanted to do a little something for some of our new parents who may have found the time challenging\, lonely and isolated. We want to bring you together\, premiere the short feature and enjoy an inspiring evening with Leeds Dads. \nWe have arranged a film screening with refreshments in a Slung Low at The Holbeck\, for you to bring your families\, little ones and / or prams – there will be some space if you need to step out of the screening and change a nappy or take a few minutes out! \n_____________________________________________________ \n6pm Doors open/Light Buffet served \n6.30 Welcome & Message from Dr Parvinder Shergill \, Director of Daddy Blues\, BAFTA Recommended Award Winning Actress – Filmmaker – Doctor \n6.40 Film Screening \n7.20 Leeds Healthcare Colleagues Update \n7.25 Guest speaker\, Mark Williams Author of the book\, Daddy Blues \n7.40 Mingle/Chat \n8.00 Close \nThere will be a chance to talk\, network before and once the feature has ended. For more details: https://www.imdb.com/title/tt13799650/ \n  \n\n\n\n\n\n\n\n\n 
URL:https://ukmensday.org.uk/event/daddy-blues-a-short-film-screening-with-leeds-dads/
LOCATION:The Holbeck Club\, Slung Low Jenkinson Lawn\,\, Holbeck Leeds\, LS11 9QX
END:VEVENT
BEGIN:VEVENT
DTSTART;TZID=Europe/London:20211119T170000
DTEND;TZID=Europe/London:20211119T190000
DTSTAMP:20260423T174251
CREATED:20211117T225809Z
LAST-MODIFIED:20211117T225809Z
UID:3861-1637341200-1637348400@ukmensday.org.uk
SUMMARY:Male Role Model Awards for International Men's Day 2021
DESCRIPTION:Awards ceremony for the West Northamptonshire Male Role Model of the Year Award 2021\n\n\n\n\n\nAbout this event\n\n\nOn 19 November International Men’s Day celebrates worldwide the positive value men bring to the world\, their families and communities. \nTo highlight positive role models and raise awareness of men’s well-being we will be hosting the WNC Male Role Model Awards 2021. \nThe awards will recognise the important contributions local men and boys make in their communities\, families\, schools and workplaces. \nThe awards will be held at the Northampton Museum and Art Gallery. At the event\, there will be a mix of charities and originations attending who helped organise the awards. We will also have guest speakers attending to help host the awards. \nThe doors open at 5pm with the awards starting at 6pm. We hope you can join us at this years event to help us celebrate positive local stories; in a world that’s often filled with negative ones. See you soon! \n\n\n\n\nhttps://www.eventbrite.co.uk/e/male-role-model-awards-for-international-mens-day-2021-tickets-194425861987
URL:https://ukmensday.org.uk/event/westnorthants21/
LOCATION:Northampton  Museum and Art Gallery\, 4-6 Guildhall Road\, Northampton\, NN1 1DP
END:VEVENT
BEGIN:VEVENT
DTSTART;TZID=Europe/London:20211119T170000
DTEND;TZID=Europe/London:20211119T180000
DTSTAMP:20260423T174251
CREATED:20211114T182916Z
LAST-MODIFIED:20211115T225018Z
UID:3822-1637341200-1637344800@ukmensday.org.uk
SUMMARY:Mindful Men Talk - Podcast and Live Chat
DESCRIPTION:Steve and James are recording a special ‘men in relationships’ Mindful Men Talk podcast episode and release it to coincide with International Men’s Day   \nThere will also be an Instagram Live session at 5pm too.  \nPlease join in and look out for podcast too.  \n  \nhttps://www.instagram.com/mindfulmen_talk/
URL:https://ukmensday.org.uk/event/mindfulmen21/
LOCATION:Online
END:VEVENT
BEGIN:VEVENT
DTSTART;TZID=Europe/London:20211119T160000
DTEND;TZID=Europe/London:20211119T170000
DTSTAMP:20260423T174251
CREATED:20211029T095334Z
LAST-MODIFIED:20211029T095334Z
UID:3735-1637337600-1637341200@ukmensday.org.uk
SUMMARY:Luton Total Wellbeing: Wellbeing for Men webinar
DESCRIPTION:Men it is important to put you and your wellbeing first! Our online Wellbeing for Men webinar is being delivered on Friday 19th November at 4pm and is run by trained therapist Call 0300 555 4152 or click the link for more info: \nhttp://totalwellbeingluton.org/talking-therapies/wellbeing-webinars… \n 
URL:https://ukmensday.org.uk/event/luton-total-wellbeing21/
LOCATION:Online
END:VEVENT
END:VCALENDAR